BEGIN:VCALENDAR
VERSION:2.0
PRODID:-//Tukios.com/
BEGIN:VEVENT
UID:4371357b-8781-486e-9bab-36ff685e8c6e@www.baileyfh.net
DTSTAMP:20260425T212640Z
DTSTART:20260503T180000Z
DTEND:20260503T190000Z
SUMMARY:Graveside Service
DESCRIPTION:
URL:https://www.baileyfh.net/obituaries/jessie-wood
LOCATION:Cushman Cemetery 264 Connecticut River Road  Dalton NH 03598
GEO:44.4033403;-71.7333271
END:VEVENT
END:VCALENDAR