BEGIN:VCALENDAR
VERSION:2.0
PRODID:-//Tukios.com/
BEGIN:VEVENT
UID:241d303c-56b0-49c1-afcd-4b82439f587d@www.baileyfh.net
DTSTAMP:20260422T182107Z
DTSTART:20260530T150000Z
DTEND:20260530T160000Z
SUMMARY:Graveside Service
DESCRIPTION:
URL:https://www.baileyfh.net/obituaries/louise-booth
LOCATION:  Vermont 102  Guildhall VT 
GEO:44.5680971;-71.5821776
END:VEVENT
END:VCALENDAR