BEGIN:VCALENDAR
VERSION:2.0
PRODID:-//Tukios.com/
BEGIN:VEVENT
UID:dc8983f0-3d62-49f6-849a-f382efac8c8d@www.baileyfh.net
DTSTAMP:20260424T004546Z
DTSTART:20260620T170000Z
DTEND:20260620T180000Z
SUMMARY:Graveside Service
DESCRIPTION:
URL:https://www.baileyfh.net/obituaries/marion-skinner
LOCATION:Summer Street Cemetery Summer Street  Lancaster  03584
GEO:44.4969383;-71.5677897
END:VEVENT
END:VCALENDAR